BEGIN:VCALENDAR
VERSION:2.0
PRODID:-//Tukios.com/
BEGIN:VEVENT
UID:9bc642a3-9e8a-425d-883c-d9a117b688be@www.clinkingbeardfuneralhome.com
DTSTAMP:20260421T004840Z
DTSTART:20260422T150000Z
DTEND:20260422T160000Z
SUMMARY:Funeral Service
DESCRIPTION:
URL:https://www.clinkingbeardfuneralhome.com/obituaries/carol-rhoades
LOCATION:Church of the Nazarene 1845 State Highway B  Mansfield MO 65704
GEO:37.1144109;-92.619445
END:VEVENT
END:VCALENDAR