BEGIN:VCALENDAR
VERSION:2.0
PRODID:-//Tukios.com/
BEGIN:VEVENT
UID:4754f5f0-9263-4d3a-84ef-cce3e8e5611b@www.clinkingbeardfuneralhome.com
DTSTAMP:20260421T222915Z
DTSTART:20260425T140000Z
DTEND:20260425T150000Z
SUMMARY:Visitation
DESCRIPTION:
URL:https://www.clinkingbeardfuneralhome.com/obituaries/carolyn-swearengin
LOCATION: 407 N Mansfield Rd  Ava MO 65608
GEO:36.9547233;-92.6574783
END:VEVENT
END:VCALENDAR