BEGIN:VCALENDAR
VERSION:2.0
PRODID:-//Tukios.com/
BEGIN:VEVENT
UID:d982979a-4e4c-4dd4-88ad-f8b5bd26310d@www.clinkingbeardfuneralhome.com
DTSTAMP:20260421T223129Z
DTSTART:20260425T150000Z
DTEND:20260425T160000Z
SUMMARY:Funeral Service
DESCRIPTION:
URL:https://www.clinkingbeardfuneralhome.com/obituaries/carolyn-swearengin
LOCATION: 407 N Mansfield Rd  Ava MO 65608
GEO:36.9547233;-92.6574783
END:VEVENT
END:VCALENDAR