BEGIN:VCALENDAR
VERSION:2.0
PRODID:-//Tukios.com/
BEGIN:VEVENT
UID:5c4ac249-2f77-4a52-8752-6fffb573a7fe@www.clinkingbeardfuneralhome.com
DTSTAMP:20260420T212218Z
DTSTART:20260422T180000Z
DTEND:20260422T190000Z
SUMMARY:Visitation
DESCRIPTION:
URL:https://www.clinkingbeardfuneralhome.com/obituaries/janet-kay-huff
LOCATION: 434 Main St  Gainesville MO 65655
GEO:36.6023056;-92.4276695
END:VEVENT
END:VCALENDAR