BEGIN:VCALENDAR
VERSION:2.0
PRODID:-//Tukios.com/
BEGIN:VEVENT
UID:0c01c65e-a650-4115-87dc-e0cb71c6d87f@www.clinkingbeardfuneralhome.com
DTSTAMP:20260420T212352Z
DTSTART:20260422T190000Z
DTEND:20260422T200000Z
SUMMARY:Funeral Service
DESCRIPTION:
URL:https://www.clinkingbeardfuneralhome.com/obituaries/janet-kay-huff
LOCATION: 434 Main St  Gainesville MO 65655
GEO:36.6023056;-92.4276695
END:VEVENT
END:VCALENDAR