BEGIN:VCALENDAR
VERSION:2.0
PRODID:-//Tukios.com/
BEGIN:VEVENT
UID:e92122d1-8bee-4e2c-945d-5d72b9a0245f@www.clinkingbeardfuneralhome.com
DTSTAMP:20260424T011114Z
DTSTART:20260428T190000Z
DTEND:20260428T200000Z
SUMMARY:Funeral Service
DESCRIPTION:
URL:https://www.clinkingbeardfuneralhome.com/obituaries/nancy-bailey
LOCATION: 407 N Mansfield Rd  Ava MO 65608
GEO:36.9547233;-92.6574783
END:VEVENT
END:VCALENDAR