BEGIN:VCALENDAR
VERSION:2.0
PRODID:-//Tukios.com/
BEGIN:VEVENT
UID:6a45bf11-30c8-4f07-bf98-460a6038e1cd@www.clinkingbeardfuneralhome.com
DTSTAMP:20260419T161840Z
DTSTART:20260420T190000Z
DTEND:20260420T200000Z
SUMMARY:Graveside Service
DESCRIPTION:Cemetery is on T Hwy near Mammoth
URL:https://www.clinkingbeardfuneralhome.com/obituaries/robin-deweese-coston
LOCATION: Pending  Pending MO Pending
GEO:37.9642529;-91.8318334
END:VEVENT
END:VCALENDAR