BEGIN:VCALENDAR
VERSION:2.0
PRODID:-//Tukios.com/
BEGIN:VEVENT
UID:4479555b-a018-4e73-bf65-b08e2781b422@www.clinkingbeardfuneralhome.com
DTSTAMP:20260424T220250Z
DTSTART:20260427T160000Z
DTEND:20260427T170000Z
SUMMARY:Memorial Service
DESCRIPTION:
URL:https://www.clinkingbeardfuneralhome.com/obituaries/ruth-lanell-lewis-long
LOCATION:Lilly Ridge General Baptist Church County Road 513  Gainesville 
	MO 65655
GEO:36.5906157;-92.3928251
END:VEVENT
END:VCALENDAR